Workbook

Sheet Sheet1
A1: 入账时间 | B1: 货款销售 | C1: 客户 | D1: 进账账户 | E1: 币种 | F1: 到账金额 | G1: 手续费 | H1: 订单号 | I1: 解款金额(包含手续费 | J1: 系统核销 | K1: 离岸转口贸易（是否） | L1: 进账表 | M1: 备注 | N1: 系统客户名称 | O1: 金蝶名称
A2: 45901 | B2: 何总 | C2: Msc Mediterranean shiping Compan y sA | D2: 美元公户 | E2: 美元 | F2: 695 | H2: XLRQD516A25 | I2: 695 | J2: 是 | K2: 否 | L2: 是 | N2: =_xlfn.XLOOKUP(H2,[1]列表数据!$B:$B,[1]列表数据!$D:$D) -> MSC MEDITERRANEAN SHIPPING COMPANY | O2: =_xlfn.XLOOKUP(N2,[2]mapping!$A:$A,[2]mapping!$B:$B) -> 13 MSC
A3: 45901 | B3: 刘兰 | C3: 无锡西亿机械有限公司 | D3: 人民币公户 | E3: 人民币 | F3: 5200 | H3: XLRQD025K25 | I3: 5200 | J3: 未出库 | K3: 否 | L3: 是 | M3: 工厂 | N3: =_xlfn.XLOOKUP(H3,[1]列表数据!$B:$B,[1]列表数据!$D:$D) -> 无锡西亿机械有限公司 | O3: =_xlfn.XLOOKUP(N3,[2]mapping!$A:$A,[2]mapping!$B:$B) -> 23无锡西亿 | P3: 23无锡西亿
A4: 45901 | B4: 王爱红 | C4: Bojan Mihelic | D4: 阿里巴巴 | E4: 美元 | F4: 3957.51 | H4: XLRQD103N25 | I4: 3957.5 | J4: 未出库 | K4: 否 | L4: 是 | M4: 多0.01，维尔森 | N4: Elektro Sistemi Bojan Miheli? s. p | O4: =_xlfn.XLOOKUP(N4,[2]mapping!$A:$A,[2]mapping!$B:$B) -> 05 Elektro
A5: 45901 | B5: 王苗苗 | C5: s.A.M. Intemational Andromeda sh ipping | D5: 美元公户 | E5: 美元 | F5: 5680 | H5: XLRQD096R25 | I5: 5680 | J5: 未出库 | K5: 是 | L5: 是 | M5: 国外 | N5: =_xlfn.XLOOKUP(H5,[1]列表数据!$B:$B,[1]列表数据!$D:$D) -> INTERNATIONAL ANDROMEDA SHIPPING | O5: =_xlfn.XLOOKUP(N5,[2]mapping!$A:$A,[2]mapping!$B:$B) -> 08 INTERNATIONAL
A6: 45901 | B6: 李垚岐 | C6: TRANSSEA PTE. LTD | D6: 美元公户 | E6: 美元 | F6: 9455 | G6: 25 | H6: XLRQD063M25 | I6: 9480 | J6: 是 | K6: 否 | L6: 是 | N6: =_xlfn.XLOOKUP(H6,[1]列表数据!$B:$B,[1]列表数据!$D:$D) -> Transsea Pte Ltd | O6: =_xlfn.XLOOKUP(N6,[2]mapping!$A:$A,[2]mapping!$B:$B) -> 20 Transsea
A7: 45902 | B7: 王新月 | D7: 阿里巴巴 | E7: 美元 | F7: 497 | H7: XLRQD018X25 | I7: 497 | J7: 未出库 | K7: 否 | L7: 是 | M7: 维尔森 | N7: =_xlfn.XLOOKUP(H7,[1]列表数据!$B:$B,[1]列表数据!$D:$D) -> Hamoud Abdullah Farj Al Othaibi Est. | O7: =_xlfn.XLOOKUP(N7,[2]mapping!$A:$A,[2]mapping!$B:$B) -> #N/A
A8: 45902 | B8: 逄雪 | C8: EVERGREEN MARINE CORPORATION | D8: 美元公户 | E8: 美元 | F8: 12125 | G8: 25 | H8: XLRQD300T25 | I8: 550 | J8: 是 | K8: 否 | L8: 是 | N8: =_xlfn.XLOOKUP(H8,[1]列表数据!$B:$B,[1]列表数据!$D:$D) -> 台湾长荣航运 | O8: =_xlfn.XLOOKUP(N8,[2]mapping!$A:$A,[2]mapping!$B:$B) -> 24台湾长荣航运
H9: XLRQD044T25 | I9: 11600 | J9: 是 | K9: 否 | L9: 是 | N9: =_xlfn.XLOOKUP(H9,[1]列表数据!$B:$B,[1]列表数据!$D:$D) -> 台湾长荣航运 | O9: =_xlfn.XLOOKUP(N9,[2]mapping!$A:$A,[2]mapping!$B:$B) -> 24台湾长荣航运
A10: 45902 | B10: 冯林敬 | C10: ONESEA SOLUTIONS PTE.LTD | D10: 美元公户 | E10: 美元 | F10: 17270 | H10: XLRQD331H25 | I10: 5676 | J10: 是 | K10: 否 | L10: 是 | M10: 多144，预付 | N10: =_xlfn.XLOOKUP(H10,[1]列表数据!$B:$B,[1]列表数据!$D:$D) -> ONESEA Solutions Pte. Ltd. | O10: =_xlfn.XLOOKUP(N10,[2]mapping!$A:$A,[2]mapping!$B:$B) -> ONESEA
H11: XLRQD203H25 | I11: 11450 | J11: 是 | K11: 否 | L11: 是 | N11: =_xlfn.XLOOKUP(H11,[1]列表数据!$B:$B,[1]列表数据!$D:$D) -> Seaspan Ship Management Ltd | O11: =_xlfn.XLOOKUP(N11,[2]mapping!$A:$A,[2]mapping!$B:$B) -> 19 Seaspan
A12: 45902 | B12: 刘振 | C12: PACIFIC ROPE ENT | D12: 美元公户 | E12: 美元 | F12: 15387 | G12: 33 | H12: XLRQD373C25 | I12: 2950 | J12: 是 | K12: 是 | L12: 是 | N12: =_xlfn.XLOOKUP(H12,[1]列表数据!$B:$B,[1]列表数据!$D:$D) -> PACIFIC ROPE ENT. | O12: =_xlfn.XLOOKUP(N12,[2]mapping!$A:$A,[2]mapping!$B:$B) -> 16 PAC
H13: XLRQD369C25 | I13: 2720 | J13: 是 | K13: 否 | L13: 是 | N13: =_xlfn.XLOOKUP(H13,[1]列表数据!$B:$B,[1]列表数据!$D:$D) -> PACIFIC ROPE ENT. | O13: =_xlfn.XLOOKUP(N13,[2]mapping!$A:$A,[2]mapping!$B:$B) -> 16 PAC
H14: XLRQD360C25 | I14: 8350 | J14: 是 | K14: 否 | L14: 是 | N14: =_xlfn.XLOOKUP(H14,[1]列表数据!$B:$B,[1]列表数据!$D:$D) -> PACIFIC ROPE ENT. | O14: =_xlfn.XLOOKUP(N14,[2]mapping!$A:$A,[2]mapping!$B:$B) -> 16 PAC
H15: XLRQD287C25 | I15: 300 | J15: 是 | K15: 否 | L15: 是 | N15: =_xlfn.XLOOKUP(H15,[1]列表数据!$B:$B,[1]列表数据!$D:$D) -> PACIFIC ROPE ENT. | O15: =_xlfn.XLOOKUP(N15,[2]mapping!$A:$A,[2]mapping!$B:$B) -> 16 PAC
H16: XLRQD126C25 | I16: 240 | J16: 是 | K16: 否 | L16: 是 | N16: =_xlfn.XLOOKUP(H16,[1]列表数据!$B:$B,[1]列表数据!$D:$D) -> AMOS SUPPLY PTE LTD | O16: =_xlfn.XLOOKUP(N16,[2]mapping!$A:$A,[2]mapping!$B:$B) -> 01 AMOS
H17: XLRQD223C25 | I17: 160 | J17: 是 | K17: 否 | L17: 是 | N17: =_xlfn.XLOOKUP(H17,[1]列表数据!$B:$B,[1]列表数据!$D:$D) -> TominiShipping | O17: =_xlfn.XLOOKUP(N17,[2]mapping!$A:$A,[2]mapping!$B:$B) -> 20 TOMI
H18: XLRQD395C25 | I18: 100 | J18: 是 | K18: 否 | L18: 是 | N18: =_xlfn.XLOOKUP(H18,[1]列表数据!$B:$B,[1]列表数据!$D:$D) -> PACIFIC ROPE ENT. | O18: =_xlfn.XLOOKUP(N18,[2]mapping!$A:$A,[2]mapping!$B:$B) -> 16 PAC
H19: XLRQD429C25 | I19: 600 | J19: 是 | K19: 否 | L19: 是 | N19: =_xlfn.XLOOKUP(H19,[1]列表数据!$B:$B,[1]列表数据!$D:$D) -> PACIFIC ROPE ENT. | O19: =_xlfn.XLOOKUP(N19,[2]mapping!$A:$A,[2]mapping!$B:$B) -> 16 PAC
A20: 45903 | B20: 刘振 | C20: FLEET SHIP MANAGEMENT PTE. LTD, | D20: 美元公户 | E20: 美元 | F20: 1418 | G20: 12 | H20: XLRQD253C25 | I20: 1430 | J20: 是 | K20: 否 | L20: 是 | N20: =_xlfn.XLOOKUP(H20,[1]列表数据!$B:$B,[1]列表数据!$D:$D) -> Fleet Management Limited (HK) | O20: =_xlfn.XLOOKUP(N20,[2]mapping!$A:$A,[2]mapping!$B:$B) -> 06 FLEE
A21: 45903 | B21: 李晓彤 | C21: BERNHARD SCHULTE SHIPMANAGEMENT( L)LTD | D21: 美元公户 | E21: 美元 | F21: 7500 | H21: XLRQD250J25 | I21: 7000 | J21: 是 | K21: 否 | L21: 是 | N21: =_xlfn.XLOOKUP(H21,[1]列表数据!$B:$B,[1]列表数据!$D:$D) -> Bernhard Schulte Shipmanagement | O21: =_xlfn.XLOOKUP(N21,[2]mapping!$A:$A,[2]mapping!$B:$B) -> 02 BERN
H22: XLRQD223J25 | I22: 500 | J22: 是 | K22: 否 | L22: 是 | N22: =_xlfn.XLOOKUP(H22,[1]列表数据!$B:$B,[1]列表数据!$D:$D) -> Bernhard Schulte Shipmanagement | O22: =_xlfn.XLOOKUP(N22,[2]mapping!$A:$A,[2]mapping!$B:$B) -> 02 BERN
A23: 45903 | B23: 冯林敬 | C23: SEASPAN SHIP MANAGEMENT LTD.- SSM | D23: 美元公户 | E23: 美元 | F23: 5788 | H23: XLRQD239H25 | I23: 5496 | J23: 是 | K23: 否 | L23: 是 | M23: 多92，预付 | N23: =_xlfn.XLOOKUP(H23,[1]列表数据!$B:$B,[1]列表数据!$D:$D) -> Seaspan Ship Management Ltd | O23: =_xlfn.XLOOKUP(N23,[2]mapping!$A:$A,[2]mapping!$B:$B) -> 19 Seaspan
H24: XLRQD060H25 | I24: 200 | J24: 是 | K24: 否 | L24: 是 | N24: =_xlfn.XLOOKUP(H24,[1]列表数据!$B:$B,[1]列表数据!$D:$D) -> Seaspan Ship Management Ltd | O24: =_xlfn.XLOOKUP(N24,[2]mapping!$A:$A,[2]mapping!$B:$B) -> 19 Seaspan
A25: 45903 | B25: 钱古鑫 | C25: 上海神通海运有限公司 | D25: 人民币公户 | E25: 人民币 | F25: 8440 | H25: XLRQD014D25 | I25: 8440 | J25: 是 | K25: 否 | L25: 是 | N25: =_xlfn.XLOOKUP(H25,[1]列表数据!$B:$B,[1]列表数据!$D:$D) -> 上海神通海运有限公司 | O25: =_xlfn.XLOOKUP(N25,[2]mapping!$A:$A,[2]mapping!$B:$B) -> 19上海神通 | P25: 19上海神通
A26: 45903 | B26: 刘振 | C26: FLEET MANAGEMENT LIMITED | D26: 美元公户 | E26: 美元 | F26: 16548 | G26: 12 | H26: XLRQD267C25 | I26: 11200 | J26: 是 | K26: 是 | L26: 是 | N26: =_xlfn.XLOOKUP(H26,[1]列表数据!$B:$B,[1]列表数据!$D:$D) -> Fleet Management Limited (HK) | O26: =_xlfn.XLOOKUP(N26,[2]mapping!$A:$A,[2]mapping!$B:$B) -> 06 FLEE
H27: XLRQD311C25 | I27: 2580 | J27: 是 | K27: 否 | L27: 是 | N27: =_xlfn.XLOOKUP(H27,[1]列表数据!$B:$B,[1]列表数据!$D:$D) -> Fleet Management Limited (HK) | O27: =_xlfn.XLOOKUP(N27,[2]mapping!$A:$A,[2]mapping!$B:$B) -> 06 FLEE
H28: XLRQD398C25 | I28: 2780 | J28: 是 | K28: 否 | L28: 是 | N28: =_xlfn.XLOOKUP(H28,[1]列表数据!$B:$B,[1]列表数据!$D:$D) -> Fleet Management Limited (HK) | O28: =_xlfn.XLOOKUP(N28,[2]mapping!$A:$A,[2]mapping!$B:$B) -> 06 FLEE
A29: 45904 | B29: 逄雪 | C29: PACIFIC INTERNATIONAL LINES (PTE)L | D29: 美元公户 | E29: 美元 | F29: 24344 | G29: 36 | H29: XLRQD169T25 | I29: 11200 | J29: 是 | K29: 否 | L29: 是 | N29: =_xlfn.XLOOKUP(H29,[1]列表数据!$B:$B,[1]列表数据!$D:$D) -> Pacific International Lines （Pte）Ltd | O29: =_xlfn.XLOOKUP(N29,[2]mapping!$A:$A,[2]mapping!$B:$B) -> 16 Pacific
B30: 逄雪 | D30: 美元公户 | E30: 美元 | H30: XLRQD269T25 | I30: 6040 | J30: 是 | K30: 否 | L30: 是 | N30: =_xlfn.XLOOKUP(H30,[1]列表数据!$B:$B,[1]列表数据!$D:$D) -> Pacific International Lines （Pte）Ltd | O30: =_xlfn.XLOOKUP(N30,[2]mapping!$A:$A,[2]mapping!$B:$B) -> 16 Pacific
B31: 逄雪 | D31: 美元公户 | E31: 美元 | H31: XLRQD306T25 | I31: 2380 | J31: 是 | K31: 否 | L31: 是 | N31: =_xlfn.XLOOKUP(H31,[1]列表数据!$B:$B,[1]列表数据!$D:$D) -> Pacific International Lines （Pte）Ltd | O31: =_xlfn.XLOOKUP(N31,[2]mapping!$A:$A,[2]mapping!$B:$B) -> 16 Pacific
H32: XLRQD319T25 | I32: 4760 | J32: 是 | K32: 否 | L32: 是 | N32: =_xlfn.XLOOKUP(H32,[1]列表数据!$B:$B,[1]列表数据!$D:$D) -> Pacific International Lines （Pte）Ltd | O32: =_xlfn.XLOOKUP(N32,[2]mapping!$A:$A,[2]mapping!$B:$B) -> 16 Pacific
A33: 45904 | B33: 刘振 | C33: INTERBULK FINANCING CORP | D33: 美元公户 | E33: 美元 | F33: 15390 | H33: XLRQD335C25 | I33: 13940 | J33: 是 | K33: 否 | L33: 是 | N33: =_xlfn.XLOOKUP(H33,[1]列表数据!$B:$B,[1]列表数据!$D:$D) -> Thenamaris (Ships Management) Inc. | O33: =_xlfn.XLOOKUP(N33,[2]mapping!$A:$A,[2]mapping!$B:$B) -> 20 Then
H34: XLRQD368C25 | I34: 1450 | J34: 是 | K34: 否 | L34: 是 | N34: =_xlfn.XLOOKUP(H34,[1]列表数据!$B:$B,[1]列表数据!$D:$D) -> Thenamaris (Ships Management) Inc. | O34: =_xlfn.XLOOKUP(N34,[2]mapping!$A:$A,[2]mapping!$B:$B) -> 20 Then
A35: 45904 | B35: 逄雪 | C35: TALIA MARITTIMA SPA | D35: 美元公户 | E35: 美元 | F35: 11358.5 | G35: 41.5 | H35: XLRQD288T25 | I35: 11400 | J35: 是 | K35: 否 | L35: 是 | N35: =_xlfn.XLOOKUP(H35,[1]列表数据!$B:$B,[1]列表数据!$D:$D) -> Italia Marittima S.p.A | O35: =_xlfn.XLOOKUP(N35,[2]mapping!$A:$A,[2]mapping!$B:$B) -> 09 Italia
A36: 45904 | B36: 李晓彤 | C36: PUTRA UTAMA LINE,PT | D36: 美元公户 | E36: 美元 | F36: 4700 | H36: XLRQD183J25 | I36: 4700 | J36: 是 | K36: 否 | L36: 是 | N36: Soechi Group | O36: =_xlfn.XLOOKUP(N36,[2]mapping!$A:$A,[2]mapping!$B:$B) -> 19 Soec
A37: 45904 | B37: 冯林敬 | C37: Anglo-Eastem(Germany)GmbH | D37: 美元公户 | E37: 美元 | F37: 3830 | H37: XLRQD204H25 | I37: 3830 | J37: 是 | K37: 否 | L37: 是 | N37: =_xlfn.XLOOKUP(H37,[1]列表数据!$B:$B,[1]列表数据!$D:$D) -> Anglo-eastern | O37: =_xlfn.XLOOKUP(N37,[2]mapping!$A:$A,[2]mapping!$B:$B) -> 01 ANGLO-A
A38: 45904 | B38: 何总 | C38: MsC Mediterranean shiping Compan y SA | D38: 美元公户 | E38: 美元 | F38: 2399 | H38: XLRQD133A25 | I38: =SUM(F38:G38) -> 2399 | N38: =_xlfn.XLOOKUP(H38,[1]列表数据!$B:$B,[1]列表数据!$D:$D) -> MSC CYPRUS | O38: 13 MSC
A39: 45904 | B39: 李垚岐 | C39: CONNAUGHT SHIPMANAGEMENT (HK)LIMMI | D39: xt | E39: 美元 | F39: 2255 | H39: XLRQD059M25 | I39: 2255 | J39: 是 | K39: 否 | L39: 是 | N39: CONNAUGHTSHIPMANAGEMENT(HK)LIMH | O39: =_xlfn.XLOOKUP(N39,[2]mapping!$A:$A,[2]mapping!$B:$B) -> 30 CONN
A40: 45904 | B40: 刘振 | C40: WILHELMSEN SHIP MANAGEMENT LTD | D40: xt | E40: 美元 | F40: 800 | H40: XLRQD162C25 | I40: 600 | J40: 是 | K40: 否 | L40: 是 | N40: =_xlfn.XLOOKUP(H40,[1]列表数据!$B:$B,[1]列表数据!$D:$D) -> Fleet Management Limited (HK) | O40: =_xlfn.XLOOKUP(N40,[2]mapping!$A:$A,[2]mapping!$B:$B) -> 06 FLEE
H41: XLRQD091C25 | I41: 200 | J41: 是 | K41: 是 | L41: 是 | N41: =_xlfn.XLOOKUP(H41,[1]列表数据!$B:$B,[1]列表数据!$D:$D) -> Fleet Management Limited (HK) | O41: =_xlfn.XLOOKUP(N41,[2]mapping!$A:$A,[2]mapping!$B:$B) -> 06 FLEE
A42: 45904 | B42: 李晓彤 | C42: UNITY SHIP MANAGEMENT LTD | D42: 美元公户 | E42: 美元 | F42: 2390 | H42: XLRQD203J25 | I42: 2390 | J42: 是 | K42: 否 | L42: 是 | N42: =_xlfn.XLOOKUP(H42,[1]列表数据!$B:$B,[1]列表数据!$D:$D) -> Unity Ship Management Ltd | O42: =_xlfn.XLOOKUP(N42,[2]mapping!$A:$A,[2]mapping!$B:$B) -> 21Unity Ship
A43: 45904 | B43: 王苗苗 | C43: CHICAGO SHIP CHANDLERS LLC | D43: xt | E43: 美元 | F43: 1690 | H43: XLRQD099R25 | I43: 1690 | J43: 未出库 | K43: 否 | L43: 是 | M43: 迪拜 | N43: =_xlfn.XLOOKUP(H43,[1]列表数据!$B:$B,[1]列表数据!$D:$D) -> Flamingo Shipping Agency L.L.C. | O43: =_xlfn.XLOOKUP(N43,[2]mapping!$A:$A,[2]mapping!$B:$B) -> Flamingo Shipping Agency
A44: 45905 | B44: 崔畅 | C44: INDOCHINASHIPPING LIMITED | D44: 美元公户 | E44: 美元 | F44: 3305 | H44: XLSWSS25004CB | I44: 3305 | J44: 是 | K44: 否 | L44: 是 | N44: INDOCHINASHIPPING LIMITED | O44: =_xlfn.XLOOKUP(N44,[2]mapping!$A:$A,[2]mapping!$B:$B) -> INDOCHINASHIPPING LIMITED
A45: 45905 | B45: 何总 | C45: Msc Meditenanean shiping Compan y SA | D45: 美元公户 | E45: 美元 | F45: 4835 | H45: XLRQD183A25 | I45: =SUM(F45:G45) -> 4835 | N45: =_xlfn.XLOOKUP(H45,[1]列表数据!$B:$B,[1]列表数据!$D:$D) -> MSC CYPRUS | O45: 13 MSC
A46: 45905 | B46: 李晓彤 | C46: Bernhard Schulte shipmanagement ( Cyprus) Limited | D46: 美元公户 | E46: 美元 | F46: 31735 | G46: 21 | H46: XLRQD190J25-1 | I46: 23368 | J46: 是 | K46: 否 | L46: 是 | N46: =_xlfn.XLOOKUP(H46,[1]列表数据!$B:$B,[1]列表数据!$D:$D) -> Bernhard Schulte Shipmanagement | O46: =_xlfn.XLOOKUP(N46,[2]mapping!$A:$A,[2]mapping!$B:$B) -> 02 BERN
H47: XLRQD190J25 | I47: 8388 | J47: 是 | K47: 否 | L47: 是 | N47: =_xlfn.XLOOKUP(H47,[1]列表数据!$B:$B,[1]列表数据!$D:$D) -> Bernhard Schulte Shipmanagement | O47: =_xlfn.XLOOKUP(N47,[2]mapping!$A:$A,[2]mapping!$B:$B) -> 02 BERN
A48: 45905 | B48: 王苗苗 | C48: GFS SHIP MANAGEMENT FZE | D48: xt | E48: 美元 | F48: 31202 | H48: XLRQD072R25 | I48: 5442 | J48: 是 | K48: 否 | L48: 是 | N48: =_xlfn.XLOOKUP(H48,[1]列表数据!$B:$B,[1]列表数据!$D:$D) -> GFS Ship Management | O48: =_xlfn.XLOOKUP(N48,[2]mapping!$A:$A,[2]mapping!$B:$B) -> GFS Ship Management
H49: XLRQD071R25 | I49: 7680 | J49: 是 | K49: 否 | L49: 是 | N49: =_xlfn.XLOOKUP(H49,[1]列表数据!$B:$B,[1]列表数据!$D:$D) -> GFS Ship Management | O49: =_xlfn.XLOOKUP(N49,[2]mapping!$A:$A,[2]mapping!$B:$B) -> GFS Ship Management
H50: XLRQD066R25 | I50: 18080 | J50: 是 | K50: 否 | L50: 是 | N50: =_xlfn.XLOOKUP(H50,[1]列表数据!$B:$B,[1]列表数据!$D:$D) -> GFS Ship Management | O50: =_xlfn.XLOOKUP(N50,[2]mapping!$A:$A,[2]mapping!$B:$B) -> GFS Ship Management
A51: 45905 | B51: 王苗苗 | C51: 湖南鼎盛船舶有限公司 | D51: 人民币公户 | E51: 人民币 | F51: 1955 | H51: XLRQD100R25 | I51: 1955 | J51: 未出库 | K51: 否 | L51: 是 | M51: 工厂 | N51: =_xlfn.XLOOKUP(H51,[1]列表数据!$B:$B,[1]列表数据!$D:$D) -> Korabelnoe Delo LTD | O51: =_xlfn.XLOOKUP(N51,[2]mapping!$A:$A,[2]mapping!$B:$B) -> 11 Korabelnoe | P51: 11 Korabelnoe
A52: 45905 | B52: 冯林敬 | C52: ANGLO-EASTERN SHIP MANAGEMENT LIMI | D52: 美元公户 | E52: 美元 | F52: 77947 | G52: 11 | H52: XLRQD184H25 | I52: 38979 | J52: 是 | K52: 否 | L52: 是 | N52: =_xlfn.XLOOKUP(H52,[1]列表数据!$B:$B,[1]列表数据!$D:$D) -> Anglo-eastern | O52: =_xlfn.XLOOKUP(N52,[2]mapping!$A:$A,[2]mapping!$B:$B) -> 01 ANGLO-A
B53: 冯林敬 | D53: 美元公户 | E53: 美元 | H53: XLRQD202H25 | I53: 38979 | J53: 是 | K53: 否 | L53: 是 | N53: =_xlfn.XLOOKUP(H53,[1]列表数据!$B:$B,[1]列表数据!$D:$D) -> Anglo-eastern | O53: =_xlfn.XLOOKUP(N53,[2]mapping!$A:$A,[2]mapping!$B:$B) -> 01 ANGLO-A
A54: 45905 | B54: 冯林敬 | C54: ANGLO-EASTERN MARITIME SERVICES PTE | D54: 美元公户 | E54: 美元 | F54: 13309 | G54: 11 | H54: XLRQD220H25 | I54: 13320 | J54: 是 | K54: 否 | L54: 是 | N54: =_xlfn.XLOOKUP(H54,[1]列表数据!$B:$B,[1]列表数据!$D:$D) -> Anglo-eastern | O54: =_xlfn.XLOOKUP(N54,[2]mapping!$A:$A,[2]mapping!$B:$B) -> 01 ANGLO-A
A55: 45906 | B55: 王新月 | D55: 阿里巴巴 | E55: 美元 | F55: 40.9 | H55: XLRQD019X25 | I55: 40.9 | J55: 未出库 | L55: 无 | M55: 工厂 | N55: =_xlfn.XLOOKUP(H55,[1]列表数据!$B:$B,[1]列表数据!$D:$D) -> SimonPierre Grenon | O55: =_xlfn.XLOOKUP(N55,[2]mapping!$A:$A,[2]mapping!$B:$B) -> #N/A
A56: 45908 | B56: 刘振 | C56: CHINA PIONEER SHIPPING LIMITED | D56: 美元公户 | E56: 美元 | F56: 20340 | H56: XLRQD383C25 | I56: 20340 | J56: 是 | K56: 否 | L56: 是 | M56: 下次从这笔核对收款 | N56: =_xlfn.XLOOKUP(H56,[1]列表数据!$B:$B,[1]列表数据!$D:$D) -> Chinese Maritime Transport Ltd | O56: =_xlfn.XLOOKUP(N56,[2]mapping!$A:$A,[2]mapping!$B:$B) -> 03 CHIN
A57: 45908 | B57: 刘振 | C57: CHARTERWELL MARITIME SA | D57: 美元公户 | E57: 美元 | F57: 1435 | H57: XLRQD148C25 | I57: 100 | J57: 是 | K57: 否 | L57: 是 | N57: =_xlfn.XLOOKUP(H57,[1]列表数据!$B:$B,[1]列表数据!$D:$D) -> CHARTERWELL MARITIME S.A | O57: =_xlfn.XLOOKUP(N57,[2]mapping!$A:$A,[2]mapping!$B:$B) -> 03 CHAR
H58: XLRQD326C25 | I58: 855 | J58: 是 | K58: 否 | L58: 是 | N58: =_xlfn.XLOOKUP(H58,[1]列表数据!$B:$B,[1]列表数据!$D:$D) -> CHARTERWELL MARITIME S.A | O58: =_xlfn.XLOOKUP(N58,[2]mapping!$A:$A,[2]mapping!$B:$B) -> 03 CHAR
H59: XLRQD326C25-02 | I59: 480 | J59: 未出库 | K59: 否 | L59: 是 | M59: 维尔森 | N59: =_xlfn.XLOOKUP(H59,[1]列表数据!$B:$B,[1]列表数据!$D:$D) -> CHARTERWELL MARITIME S.A | O59: =_xlfn.XLOOKUP(N59,[2]mapping!$A:$A,[2]mapping!$B:$B) -> 03 CHAR
A60: 45908 | B60: 刘振 | C60: CHINA TRIUMPH SHIPPING LIMITED | D60: 美元公户 | E60: 美元 | F60: 180 | H60: XLRQD294C25 | I60: 180 | J60: 是 | K60: 否 | L60: 是 | N60: =_xlfn.XLOOKUP(H60,[1]列表数据!$B:$B,[1]列表数据!$D:$D) -> Chinese Maritime Transport Ltd | O60: =_xlfn.XLOOKUP(N60,[2]mapping!$A:$A,[2]mapping!$B:$B) -> 03 CHIN
A61: 45908 | B61: 李垚岐 | C61: NEOSM-02 | D61: xt | E61: 美元 | F61: 2680 | H61: XLRQD077M25 | I61: 2680 | J61: 未出库 | K61: 否 | L61: 是 | M61: 维尔森 | N61: =_xlfn.XLOOKUP(H61,[1]列表数据!$B:$B,[1]列表数据!$D:$D) -> ENEOS Ocean Asia Pte Ltd(NYK Energy Ocean Shipmanagement Pte Ltd) | O61: =_xlfn.XLOOKUP(N61,[2]mapping!$A:$A,[2]mapping!$B:$B) -> ENEOS
A62: 45908 | B62: 王苗苗 | C62: PT INOVASI TEKNIK NUSANTARA | D62: xt | E62: 美元 | F62: 7200 | H62: XLRQD095R25 | I62: 7200 | J62: 是 | K62: 否 | L62: 是 | N62: =_xlfn.XLOOKUP(H62,[1]列表数据!$B:$B,[1]列表数据!$D:$D) -> PT Sillo Maritime Perdana Tbk | O62: =_xlfn.XLOOKUP(N62,[2]mapping!$A:$A,[2]mapping!$B:$B) -> PT Sillo Maritime Perdana Tbk
A63: 45908 | B63: 夏正雪 | C63: WALLEM SHIPMANAGEMENT LIMITED | D63: 美元公户 | E63: 美元 | F63: 108 | H63: XLRQD071G25 | I63: 108 | J63: 是 | K63: 否 | L63: 是 | M63: 船舶 | N63: =_xlfn.XLOOKUP(H63,[1]列表数据!$B:$B,[1]列表数据!$D:$D) -> Wallem Group | O63: =_xlfn.XLOOKUP(N63,[2]mapping!$A:$A,[2]mapping!$B:$B) -> 05 Wallem Group
A64: 45908 | B64: 刘振 | C64: NAVIOS TANKERS MANAGEMENTINC | D64: 美元公户 | E64: 美元 | F64: 13000 | G64: 20 | H64: XLRQD185C25 | I64: 12170 | J64: 是 | K64: 否 | L64: 是 | N64: =_xlfn.XLOOKUP(H64,[1]列表数据!$B:$B,[1]列表数据!$D:$D) -> Navios Tankers Management Inc | O64: =_xlfn.XLOOKUP(N64,[2]mapping!$A:$A,[2]mapping!$B:$B) -> Navios Tankers Management Inc
H65: XLRQD268C25 | I65: 350 | J65: 是 | K65: 否 | L65: 是 | N65: =_xlfn.XLOOKUP(H65,[1]列表数据!$B:$B,[1]列表数据!$D:$D) -> Navios Tankers Management Inc | O65: =_xlfn.XLOOKUP(N65,[2]mapping!$A:$A,[2]mapping!$B:$B) -> Navios Tankers Management Inc
H66: XLRQD269C25 | I66: 400 | J66: 是 | K66: 否 | L66: 是 | N66: =_xlfn.XLOOKUP(H66,[1]列表数据!$B:$B,[1]列表数据!$D:$D) -> Navios Tankers Management Inc | O66: =_xlfn.XLOOKUP(N66,[2]mapping!$A:$A,[2]mapping!$B:$B) -> Navios Tankers Management Inc
H67: XLRQD392C25 | I67: 100 | J67: 是 | K67: 是 | L67: 是 | N67: =_xlfn.XLOOKUP(H67,[1]列表数据!$B:$B,[1]列表数据!$D:$D) -> Navios Tankers Management Inc | O67: =_xlfn.XLOOKUP(N67,[2]mapping!$A:$A,[2]mapping!$B:$B) -> Navios Tankers Management Inc
A68: 45908 | B68: 逄雪 | C68: EVERGREEN MARINE CORPORATION | D68: 美元公户 | E68: 美元 | F68: 10895 | G68: 25 | H68: XLRQD291T25 | I68: 10920 | J68: 是 | K68: 否 | L68: 是 | N68: =_xlfn.XLOOKUP(H68,[1]列表数据!$B:$B,[1]列表数据!$D:$D) -> 台湾长荣航运 | O68: =_xlfn.XLOOKUP(N68,[2]mapping!$A:$A,[2]mapping!$B:$B) -> 24台湾长荣航运
A69: 45908 | B69: 夏正雪 | C69: SPAR-SYNERGY SHIP MANAGEMENT PTE | D69: 美元公户 | E69: 美元 | F69: 4348 | H69: XLRQD202G25 | I69: 4348 | J69: 是 | K69: 否 | L69: 是 | N69: =_xlfn.XLOOKUP(H69,[1]列表数据!$B:$B,[1]列表数据!$D:$D) -> Synergy Marine Group | O69: =_xlfn.XLOOKUP(N69,[2]mapping!$A:$A,[2]mapping!$B:$B) -> Synergz
A70: 45908 | B70: 逄雪 | C70: 中国石化燃料油销售有限公司辽宁分公司 | D70: 扬州工厂 | E70: 人民币 | F70: 8900 | H70: XLRQD324T25 | I70: 8900 | J70: 是 | K70: 否 | L70: 是 | N70: =_xlfn.XLOOKUP(H70,[1]列表数据!$B:$B,[1]列表数据!$D:$D) -> 中国石化燃料油销售有限公司上海分公司 | O70: =_xlfn.XLOOKUP(N70,[2]mapping!$A:$A,[2]mapping!$B:$B) -> 26 中国石化燃料
A71: 45909 | B71: 王苗苗 | C71: FATMA SHIPPING INC | D71: xt | E71: 美元 | F71: 962 | H71: XLRQD065R25 | I71: 962 | J71: 是 | K71: 否 | L71: 是 | N71: =_xlfn.XLOOKUP(H71,[1]列表数据!$B:$B,[1]列表数据!$D:$D) -> MANTA SHIPPING LTD. | O71: =_xlfn.XLOOKUP(N71,[2]mapping!$A:$A,[2]mapping!$B:$B) -> 13 MANTA
A72: 45909 | B72: 何总 | C72: Baste .Lange GmbH | D72: 美元公户 | E72: 美元 | F72: 21349 | G72: 21 | H72: XLRQD003A25 | I72: 13155 | J72: 是 | K72: 否 | L72: 是 | N72: =_xlfn.XLOOKUP(H72,[1]列表数据!$B:$B,[1]列表数据!$D:$D) -> Kloska Group | O72: =_xlfn.XLOOKUP(N72,[2]mapping!$A:$A,[2]mapping!$B:$B) -> Kloska Group
H73: XLRQD237A24 | I73: 8215 | J73: 是 | K73: 否 | L73: 是 | N73: Kloska Group | O73: =_xlfn.XLOOKUP(N73,[2]mapping!$A:$A,[2]mapping!$B:$B) -> Kloska Group
A74: 45909 | B74: 夏正雪 | C74: SYNERGY MARINE PTE LTD | D74: 美元公户 | E74: 美元 | F74: 4900 | H74: XLRQD162G25 | I74: 3540 | J74: 是 | K74: 是 | L74: 是 | N74: =_xlfn.XLOOKUP(H74,[1]列表数据!$B:$B,[1]列表数据!$D:$D) -> Synergy Maritime Pvt. Ltd | O74: =_xlfn.XLOOKUP(N74,[2]mapping!$A:$A,[2]mapping!$B:$B) -> 19 Synergy
H75: XLRQD204G25 | I75: 1360 | J75: 是 | K75: 否 | L75: 是 | N75: =_xlfn.XLOOKUP(H75,[1]列表数据!$B:$B,[1]列表数据!$D:$D) -> Synergy Maritime Pvt. Ltd | O75: =_xlfn.XLOOKUP(N75,[2]mapping!$A:$A,[2]mapping!$B:$B) -> 19 Synergy
A76: 45909 | B76: 王爱红 | C76: Pencom Engineering Lti | D76: 美元公户 | E76: 美元 | F76: 2820 | G76: 15 | H76: XLRQD105N25 | I76: 2835 | J76: 未出库 | K76: 否 | L76: 是 | M76: 维尔森 | N76: =_xlfn.XLOOKUP(H76,[1]列表数据!$B:$B,[1]列表数据!$D:$D) -> PENCOM | O76: =_xlfn.XLOOKUP(N76,[2]mapping!$A:$A,[2]mapping!$B:$B) -> 16 PENC
A77: 45909 | B77: 陈思琪 | C77: AMOS KOREA CO,LTD | D77: 美元公户 | E77: 美元 | F77: 1832 | G77: 18 | H77: XLRQD007S25 | I77: 1850 | J77: 是 | K77: 否 | L77: 是 | N77: AMOS KOREA | O77: =_xlfn.XLOOKUP(N77,[2]mapping!$A:$A,[2]mapping!$B:$B) -> 01 AMOS KOREA
A78: 45909 | B78: 陈思琪 | C78: XT MANAGEMENT LTD | D78: 美元公户 | E78: 美元 | F78: 4228 | G78: 32 | H78: XLRQD008S25 | I78: 4260 | J78: 是 | K78: 否 | L78: 是 | M78: 一笔到账7448 | N78: =_xlfn.XLOOKUP(H78,[1]列表数据!$B:$B,[1]列表数据!$D:$D) -> XT GROUP | O78: =_xlfn.XLOOKUP(N78,[2]mapping!$A:$A,[2]mapping!$B:$B) -> 24 XT
A79: 45909 | B79: 刘振 | C79: XT MANAGEMENT LTD | D79: 美元公户 | E79: 美元 | F79: 3220 | H79: XLRQD274C25 | I79: 3220 | J79: 是 | K79: 否 | L79: 是 | N79: =_xlfn.XLOOKUP(H79,[1]列表数据!$B:$B,[1]列表数据!$D:$D) -> XT GROUP | O79: =_xlfn.XLOOKUP(N79,[2]mapping!$A:$A,[2]mapping!$B:$B) -> 24 XT
A80: 45909 | B80: 王磊 | C80: QUALSHIPS PTY LTD | D80: 美元公户 | E80: 美元 | F80: 2478 | H80: XLRQD005W25 | I80: 2478 | J80: 是 | K80: 否 | L80: 是 | N80: =_xlfn.XLOOKUP(H80,[1]列表数据!$B:$B,[1]列表数据!$D:$D) -> Qualships | O80: =_xlfn.XLOOKUP(N80,[2]mapping!$A:$A,[2]mapping!$B:$B) -> Qualships
A81: 45909 | B81: 刘兰 | C81: 无锡西亿机械有限公司 | D81: 人民币公户 | E81: 人民币 | F81: 5200 | H81: XLRQD026K25 | I81: 5200 | J81: 未出库 | K81: 否 | L81: 无 | M81: 工厂 | N81: =_xlfn.XLOOKUP(H81,[1]列表数据!$B:$B,[1]列表数据!$D:$D) -> 无锡西亿机械有限公司 | O81: =_xlfn.XLOOKUP(N81,[2]mapping!$A:$A,[2]mapping!$B:$B) -> 23无锡西亿 | P81: 23无锡西亿
A82: 45909 | B82: 何总 | C82: MSC GLOBAL SUPPLIES S.R.L. | D82: 欧元公户 | E82: 欧元 | F82: 32053.55 | G82: 44 | H82: XLRGS287A25 | I82: =SUM(F82:G82) -> 32097.55 | N82: =_xlfn.XLOOKUP(H82,[1]列表数据!$B:$B,[1]列表数据!$D:$D) -> MSC GLOBAL SUPPLIES SRL | O82: 13 MSC
A83: 45909 | B83: 龙静 | C83: MME BULENGER ESTELLE OU M BULENGER CLAUDE | D83: 欧元公户 | E83: 欧元 | F83: 125 | G83: 5 | H83: XLRQD020L25 | I83: =SUM(F83:G83) -> 130 | J83: 未出库 | M83: 工厂 | N83: =_xlfn.XLOOKUP(H83,[1]列表数据!$B:$B,[1]列表数据!$D:$D) -> claude bulenger | O83: =_xlfn.XLOOKUP(N83,[2]mapping!$A:$A,[2]mapping!$B:$B) -> 03 claude
A84: 45909 | B84: 王爱红 | C84: Pemnille Svenstrup | D84: 阿里巴巴 | E84: 美元 | F84: 43 | H84: XLRQD108N25 | I84: 43 | J84: 未出库 | M84: 维尔森 | N84: =_xlfn.XLOOKUP(H84,[1]列表数据!$B:$B,[1]列表数据!$D:$D) -> equinet | O84: =_xlfn.XLOOKUP(N84,[2]mapping!$A:$A,[2]mapping!$B:$B) -> #N/A
A85: 45909 | B85: 刘振 | C85: 1/EFNAV COMPANY LIMITED | D85: 汇丰银行 | E85: 美元 | F85: 5211.64 | G85: 8.36 | H85: XLRQD329C25 | I85: 180 | J85: 是 | K85: 否 | L85: 是 | M85: 下次从这笔开始统计收款 | N85: =_xlfn.XLOOKUP(H85,[1]列表数据!$B:$B,[1]列表数据!$D:$D) -> Efnav Company Ltd | O85: =_xlfn.XLOOKUP(N85,[2]mapping!$A:$A,[2]mapping!$B:$B) -> 05 Efnav
H86: XLRQD339C25 | I86: 3460 | J86: 是 | K86: 否 | L86: 是 | N86: =_xlfn.XLOOKUP(H86,[1]列表数据!$B:$B,[1]列表数据!$D:$D) -> Efnav Company Ltd | O86: =_xlfn.XLOOKUP(N86,[2]mapping!$A:$A,[2]mapping!$B:$B) -> 05 Efnav
H87: XLRQD374C25 | I87: 1580 | J87: 未出库 | K87: 否 | L87: 是 | M87: 维尔森 | N87: =_xlfn.XLOOKUP(H87,[1]列表数据!$B:$B,[1]列表数据!$D:$D) -> Efnav Company Ltd | O87: =_xlfn.XLOOKUP(N87,[2]mapping!$A:$A,[2]mapping!$B:$B) -> 05 Efnav
A88: 45910 | B88: 刘振 | C88: FLEET MANAGEMENT LIMITED | D88: 美元公户 | E88: 美元 | F88: 20018 | G88: 12 | H88: XLRQD289C25 | I88: 7280 | J88: 是 | K88: 否 | L88: 是 | N88: =_xlfn.XLOOKUP(H88,[1]列表数据!$B:$B,[1]列表数据!$D:$D) -> Fleet Management Limited (HK) | O88: =_xlfn.XLOOKUP(N88,[2]mapping!$A:$A,[2]mapping!$B:$B) -> 06 FLEE
H89: XLRQD327C25 | I89: 150 | J89: 是 | K89: 否 | L89: 是 | N89: =_xlfn.XLOOKUP(H89,[1]列表数据!$B:$B,[1]列表数据!$D:$D) -> Fleet Management Limited (HK) | O89: =_xlfn.XLOOKUP(N89,[2]mapping!$A:$A,[2]mapping!$B:$B) -> 06 FLEE
H90: XLRQD361C25 | I90: 3340 | J90: 是 | K90: 否 | L90: 是 | N90: =_xlfn.XLOOKUP(H90,[1]列表数据!$B:$B,[1]列表数据!$D:$D) -> Fleet Management Limited (HK) | O90: =_xlfn.XLOOKUP(N90,[2]mapping!$A:$A,[2]mapping!$B:$B) -> 06 FLEE
H91: XLRQD385C25 | I91: 3470 | J91: 是 | K91: 否 | L91: 是 | N91: =_xlfn.XLOOKUP(H91,[1]列表数据!$B:$B,[1]列表数据!$D:$D) -> Fleet Management Limited (HK) | O91: =_xlfn.XLOOKUP(N91,[2]mapping!$A:$A,[2]mapping!$B:$B) -> 06 FLEE
H92: XLRQD385C25-02 | I92: 2640 | J92: 是 | K92: 否 | L92: 是 | N92: =_xlfn.XLOOKUP(H92,[1]列表数据!$B:$B,[1]列表数据!$D:$D) -> Fleet Management Limited (HK) | O92: =_xlfn.XLOOKUP(N92,[2]mapping!$A:$A,[2]mapping!$B:$B) -> 06 FLEE
H93: XLRQD394C25 | I93: 3150 | J93: 是 | K93: 否 | L93: 是 | N93: =_xlfn.XLOOKUP(H93,[1]列表数据!$B:$B,[1]列表数据!$D:$D) -> Fleet Management Limited (HK) | O93: =_xlfn.XLOOKUP(N93,[2]mapping!$A:$A,[2]mapping!$B:$B) -> 06 FLEE
A94: 45910 | B94: 刘振 | C94: CBC HOLDING LIMITED | D94: 美元公户 | E94: 美元 | F94: 12340 | H94: XLRQD333C25 | I94: 6140 | J94: 是 | K94: 否 | L94: 是 | N94: =_xlfn.XLOOKUP(H94,[1]列表数据!$B:$B,[1]列表数据!$D:$D) -> C TRANSPORT MARITIME SAM | O94: =_xlfn.XLOOKUP(N94,[2]mapping!$A:$A,[2]mapping!$B:$B) -> 03 C
H95: XLRQD333C25-02 | I95: 6200 | J95: 是 | K95: 否 | L95: 是 | N95: =_xlfn.XLOOKUP(H95,[1]列表数据!$B:$B,[1]列表数据!$D:$D) -> C TRANSPORT MARITIME SAM | O95: =_xlfn.XLOOKUP(N95,[2]mapping!$A:$A,[2]mapping!$B:$B) -> 03 C
A96: 45910 | B96: 李晓彤 | C96: BERNHARD SCHULTE SHIPMANAGEMENT(C YPRUS) LIMITED | D96: 美元公户 | E96: 美元 | F96: 5069 | G96: 51 | H96: XLRQD194J25 | I96: 5120 | J96: 是 | K96: 否 | L96: 是 | N96: =_xlfn.XLOOKUP(H96,[1]列表数据!$B:$B,[1]列表数据!$D:$D) -> Bernhard Schulte Shipmanagement | O96: =_xlfn.XLOOKUP(N96,[2]mapping!$A:$A,[2]mapping!$B:$B) -> 02 BERN
A97: 45910 | B97: 何总 | C97: Msc Mediterranean shiping Compan y SA | D97: 美元公户 | E97: 美元 | F97: 27328 | H97: XLRQD226A25 | I97: =SUM(F97:G97) -> 27328 | N97: =_xlfn.XLOOKUP(H97,[1]列表数据!$B:$B,[1]列表数据!$D:$D) -> MSC CYPRUS | O97: 13 MSC
A98: 45910 | B98: 刘振 | C98: Nafomar Shipping + Trading Co Ltd | D98: 美元公户 | E98: 美元 | F98: 10750 | H98: XLRQD259C25 | I98: 2750 | J98: 是 | K98: 否 | L98: 是 | N98: =_xlfn.XLOOKUP(H98,[1]列表数据!$B:$B,[1]列表数据!$D:$D) -> Navios Tankers Management Inc | O98: =_xlfn.XLOOKUP(N98,[2]mapping!$A:$A,[2]mapping!$B:$B) -> Navios Tankers Management Inc
D99: 美元公户 | E99: 美元 | H99: XLRQD288C25 | I99: 7500 | J99: 是 | K99: 否 | L99: 是 | N99: =_xlfn.XLOOKUP(H99,[1]列表数据!$B:$B,[1]列表数据!$D:$D) -> Navios Tankers Management Inc | O99: =_xlfn.XLOOKUP(N99,[2]mapping!$A:$A,[2]mapping!$B:$B) -> Navios Tankers Management Inc
H100: XLRQD090C25 | I100: 500 | J100: 是 | K100: 否 | L100: 是 | N100: =_xlfn.XLOOKUP(H100,[1]列表数据!$B:$B,[1]列表数据!$D:$D) -> Brave Maritime Corp. Inc. / Stealth Maritime Corp S.A | O100: =_xlfn.XLOOKUP(N100,[2]mapping!$A:$A,[2]mapping!$B:$B) -> 02 Brave
...

Sheet Sheet2
A1: 到账金额 | B1: 手续费 | C1: 订单号 | D1: 应收账款 | E1: 金蝶名称 | G1: 摘要 | H1: 借/贷 | I1: 科目代码(*) | J1: 科目名称(*) | K1: 核算项目 | L1: 币别 | M1: 汇率 | N1: 原币金额 | O1: 金额
A2: 47200 | D2: =A2 -> 47200 | E2: 20 Taylor | G2: ="美金收款"&"-"&C2 -> 美金收款- | H2: 借 | I2: 1002.02 | J2: 银行存款 - 中行USD | L2: 美元 | M2: 7.1072 | N2: =A2 -> 47200 | O2: =ROUND(M2*N2,2) -> 335459.84
G3: ="美金收款"&"-"&C3 -> 美金收款- | H3: 贷 | I3: 1122 | J3: 应收账款 | K3: =E2 -> 20 Taylor | L3: 美元 | M3: 7.1072 | N3: =D2 -> 47200 | O3: =ROUND(M3*N3,2) -> 335459.84
A4: 23454 | B4: 46 | C4: XLRQD310C25 | D4: 7320 | E4: 20 TRANS | G4: ="美金收款"&"-"&C4 -> 美金收款-XLRQD310C25 | H4: 借 | I4: 1002.02 | J4: 银行存款 - 中行USD | L4: 美元 | M4: 7.1072 | N4: =A4 -> 23454 | O4: =ROUND(M4*N4,2) -> 166692.27
C5: XLRQD324C25 | D5: 2720 | E5: 20 TRANS | G5: ="美金收款"&"-"&C4 -> 美金收款-XLRQD310C25 | H5: 贷 | I5: 1122 | J5: 应收账款 | K5: =E4 -> 20 TRANS | L5: 美元 | M5: 7.1072 | N5: =D4 -> 7320 | O5: =ROUND(M5*N5,2) -> 52024.7
C6: XLRQD345C25 | D6: 180 | E6: 20 TRANS | G6: ="美金收款"&"-"&C5 -> 美金收款-XLRQD324C25 | H6: 贷 | I6: 1122 | J6: 应收账款 | K6: =E5 -> 20 TRANS | L6: 美元 | M6: 7.1072 | N6: =D5 -> 2720 | O6: =ROUND(M6*N6,2) -> 19331.58
C7: XLRQD346C25 | D7: 8780 | E7: 20 TRANS | G7: ="美金收款"&"-"&C6 -> 美金收款-XLRQD345C25 | H7: 贷 | I7: 1122 | J7: 应收账款 | K7: =E6 -> 20 TRANS | L7: 美元 | M7: 7.1072 | N7: =D6 -> 180 | O7: =ROUND(M7*N7,2) -> 1279.3
C8: XLRQD346C25-02 | D8: 4500 | E8: 20 TRANS | G8: ="美金收款"&"-"&C7 -> 美金收款-XLRQD346C25 | H8: 贷 | I8: 1122 | J8: 应收账款 | K8: =E7 -> 20 TRANS | L8: 美元 | M8: 7.1072 | N8: =D7 -> 8780 | O8: =ROUND(M8*N8,2) -> 62401.22
G9: ="美金收款"&"-"&C8 -> 美金收款-XLRQD346C25-02 | H9: 贷 | I9: 1122 | J9: 应收账款 | K9: =E8 -> 20 TRANS | L9: 美元 | M9: 7.1072 | N9: =D8 -> 4500 | O9: =ROUND(M9*N9,2) -> 31982.4
G10: 美金收款-XLRQD346C25-02 | H10: 借 | I10: 5603.03 | J10: 财务费用-手续费 | L10: 人民币 | O10: 326.93
A11: 7997 | C11: XLRQD202J25 | D11: 1100 | E11: Yasa Shipping | G11: ="美金收款"&"-"&C11 -> 美金收款-XLRQD202J25 | H11: 借 | I11: 1002.02 | J11: 银行存款 - 中行USD | L11: 美元 | M11: 7.1072 | N11: =A11 -> 7997 | O11: =ROUND(M11*N11,2) -> 56836.28
C12: XLRQD201J25 | D12: 6897 | E12: Yasa Shipping | G12: ="美金收款"&"-"&C11 -> 美金收款-XLRQD202J25 | H12: 贷 | I12: 1122 | J12: 应收账款 | K12: =E11 -> Yasa Shipping | L12: 美元 | M12: 7.1072 | N12: =D11 -> 1100 | O12: =ROUND(M12*N12,2) -> 7817.92
G13: ="美金收款"&"-"&C12 -> 美金收款-XLRQD201J25 | H13: 贷 | I13: 1122 | J13: 应收账款 | K13: =E12 -> Yasa Shipping | L13: 美元 | M13: 7.1072 | N13: =D12 -> 6897 | O13: =ROUND(M13*N13,2) -> 49018.36
A14: 13218 | B14: 12 | D14: =A14+B14 -> 13230 | E14: 19 SYNE | G14: ="美金收款"&"-"&C14 -> 美金收款- | H14: 借 | I14: 1002.02 | J14: 银行存款 - 中行USD | L14: 美元 | M14: 7.1072 | N14: =A14 -> 13218 | O14: =ROUND(M14*N14,2) -> 93942.97
G15: ="美金收款"&"-"&C14 -> 美金收款- | H15: 贷 | I15: 1122 | J15: 应收账款 | K15: =E14 -> 19 SYNE | L15: 美元 | M15: 7.1072 | N15: =D14 -> 13230 | O15: =ROUND(M15*N15,2) -> 94028.26
G16: ="美金收款"&"-"&C15 -> 美金收款- | H16: 借 | I16: 5603.03 | J16: 财务费用-手续费 | L16: 人民币 | O16: 85.29
A17: 20178 | B17: 12 | C17: XLRQD303C25 | D17: 5280 | E17: 06 FLEE | G17: ="美金收款"&"-"&C17 -> 美金收款-XLRQD303C25 | H17: 借 | I17: 1002.02 | J17: 银行存款 - 中行USD | L17: 美元 | M17: 7.1072 | N17: =A17 -> 20178 | O17: =ROUND(M17*N17,2) -> 143409.08
C18: XLRQD387C25-02 | D18: 270 | E18: 06 FLEE | G18: ="美金收款"&"-"&C17 -> 美金收款-XLRQD303C25 | H18: 贷 | I18: 1122 | J18: 应收账款 | K18: =E17 -> 06 FLEE | L18: 美元 | M18: 7.1072 | N18: =D17 -> 5280 | O18: =ROUND(M18*N18,2) -> 37526.02
C19: XLRQD394C25 | D19: 100 | E19: 06 FLEE | G19: ="美金收款"&"-"&C18 -> 美金收款-XLRQD387C25-02 | H19: 贷 | I19: 1122 | J19: 应收账款 | K19: =E18 -> 06 FLEE | L19: 美元 | M19: 7.1072 | N19: =D18 -> 270 | O19: =ROUND(M19*N19,2) -> 1918.94
C20: XLRQD397C25 | D20: 7200 | E20: 06 FLEE | G20: ="美金收款"&"-"&C19 -> 美金收款-XLRQD394C25 | H20: 贷 | I20: 1122 | J20: 应收账款 | K20: =E19 -> 06 FLEE | L20: 美元 | M20: 7.1072 | N20: =D19 -> 100 | O20: =ROUND(M20*N20,2) -> 710.72
C21: XLRQD398C25 | D21: 200 | E21: 06 FLEE | G21: ="美金收款"&"-"&C20 -> 美金收款-XLRQD397C25 | H21: 贷 | I21: 1122 | J21: 应收账款 | K21: =E20 -> 06 FLEE | L21: 美元 | M21: 7.1072 | N21: =D20 -> 7200 | O21: =ROUND(M21*N21,2) -> 51171.84
C22: XLRQD400C25 | D22: 100 | E22: 06 FLEE | G22: ="美金收款"&"-"&C21 -> 美金收款-XLRQD398C25 | H22: 贷 | I22: 1122 | J22: 应收账款 | K22: =E21 -> 06 FLEE | L22: 美元 | M22: 7.1072 | N22: =D21 -> 200 | O22: =ROUND(M22*N22,2) -> 1421.44
C23: XLRQD439C25 | D23: 1560 | E23: 06 FLEE | G23: ="美金收款"&"-"&C22 -> 美金收款-XLRQD400C25 | H23: 贷 | I23: 1122 | J23: 应收账款 | K23: =E22 -> 06 FLEE | L23: 美元 | M23: 7.1072 | N23: =D22 -> 100 | O23: =ROUND(M23*N23,2) -> 710.72
C24: XLRQD446C25 | D24: 1770 | E24: 06 FLEE | G24: ="美金收款"&"-"&C23 -> 美金收款-XLRQD439C25 | H24: 贷 | I24: 1122 | J24: 应收账款 | K24: =E23 -> 06 FLEE | L24: 美元 | M24: 7.1072 | N24: =D23 -> 1560 | O24: =ROUND(M24*N24,2) -> 11087.23
C25: XLRQD450C25 | D25: 3710 | E25: 06 FLEE | G25: ="美金收款"&"-"&C24 -> 美金收款-XLRQD446C25 | H25: 贷 | I25: 1122 | J25: 应收账款 | K25: =E24 -> 06 FLEE | L25: 美元 | M25: 7.1072 | N25: =D24 -> 1770 | O25: =ROUND(M25*N25,2) -> 12579.74
G26: ="美金收款"&"-"&C25 -> 美金收款-XLRQD450C25 | H26: 贷 | I26: 1122 | J26: 应收账款 | K26: =E25 -> 06 FLEE | L26: 美元 | M26: 7.1072 | N26: =D25 -> 3710 | O26: =ROUND(M26*N26,2) -> 26367.71
G27: 美金收款-XLRQD450C25 | H27: 借 | I27: 5603.03 | J27: 财务费用-手续费 | L27: 人民币 | O27: 85.29
A28: 12359 | B28: 21 | C28: XLRQD221J25 | D28: 12380 | E28: 02 BERN | G28: ="美金收款"&"-"&C28 -> 美金收款-XLRQD221J25 | H28: 借 | I28: 1002.02 | J28: 银行存款 - 中行USD | L28: 美元 | M28: 7.1072 | N28: =A28 -> 12359 | O28: =ROUND(M28*N28,2) -> 87837.88
G29: ="美金收款"&"-"&C28 -> 美金收款-XLRQD221J25 | H29: 贷 | I29: 1122 | J29: 应收账款 | K29: =E28 -> 02 BERN | L29: 美元 | M29: 7.1072 | N29: =D28 -> 12380 | O29: =ROUND(M29*N29,2) -> 87987.14
G30: 美金收款-XLRQD221J25 | H30: 借 | I30: 5603.03 | J30: 财务费用-手续费 | L30: 人民币 | O30: 149.25
A31: 34229.65 | C31: XLRQD377J24 | D31: 6100 | E31: 16 Paci | G31: ="美金收款"&"-"&C31 -> 美金收款-XLRQD377J24 | H31: 借 | I31: 1002.02 | J31: 银行存款 - 中行USD | L31: 美元 | M31: 7.1072 | N31: =A31 -> 34229.65 | O31: =ROUND(M31*N31,2) -> 243276.97
C32: XLRQD241J25 | D32: 1600 | E32: 16 Paci | G32: ="美金收款"&"-"&C31 -> 美金收款-XLRQD377J24 | H32: 贷 | I32: 1122 | J32: 应收账款 | K32: =E31 -> 16 Paci | L32: 美元 | M32: 7.1072 | N32: =D31 -> 6100 | O32: =ROUND(M32*N32,2) -> 43353.92
C33: XLRQD242J25 | D33: 14302.4 | E33: 16 Paci | G33: ="美金收款"&"-"&C32 -> 美金收款-XLRQD241J25 | H33: 贷 | I33: 1122 | J33: 应收账款 | K33: =E32 -> 16 Paci | L33: 美元 | M33: 7.1072 | N33: =D32 -> 1600 | O33: =ROUND(M33*N33,2) -> 11371.52
C34: XLRQD246J25 | D34: 7035.45 | E34: 16 Paci | G34: ="美金收款"&"-"&C33 -> 美金收款-XLRQD242J25 | H34: 贷 | I34: 1122 | J34: 应收账款 | K34: =E33 -> 16 Paci | L34: 美元 | M34: 7.1072 | N34: =D33 -> 14302.4 | O34: =ROUND(M34*N34,2) -> 101650.02
C35: XLRQD249J25 | D35: 5191.8 | E35: 16 Paci | G35: ="美金收款"&"-"&C34 -> 美金收款-XLRQD246J25 | H35: 贷 | I35: 1122 | J35: 应收账款 | K35: =E34 -> 16 Paci | L35: 美元 | M35: 7.1072 | N35: =D34 -> 7035.45 | O35: =ROUND(M35*N35,2) -> 50002.35
G36: ="美金收款"&"-"&C35 -> 美金收款-XLRQD249J25 | H36: 贷 | I36: 1122 | J36: 应收账款 | K36: =E35 -> 16 Paci | L36: 美元 | M36: 7.1072 | N36: =D35 -> 5191.8 | O36: =ROUND(M36*N36,2) -> 36899.16
A37: 17725 | B37: 25 | C37: XLRQD316T25 | D37: 1100 | E37: 24台湾长荣航运 | G37: ="美金收款"&"-"&C37 -> 美金收款-XLRQD316T25 | H37: 借 | I37: 1002.02 | J37: 银行存款 - 中行USD | L37: 美元 | M37: 7.1072 | N37: =A37 -> 17725 | O37: =ROUND(M37*N37,2) -> 125975.12
C38: XLRQD268T25 | D38: 14450 | E38: 24台湾长荣航运 | G38: ="美金收款"&"-"&C37 -> 美金收款-XLRQD316T25 | H38: 贷 | I38: 1122 | J38: 应收账款 | K38: =E37 -> 24台湾长荣航运 | L38: 美元 | M38: 7.1072 | N38: =D37 -> 1100 | O38: =ROUND(M38*N38,2) -> 7817.92
C39: XLRQD315T25 | D39: 1100 | E39: 24台湾长荣航运 | G39: ="美金收款"&"-"&C38 -> 美金收款-XLRQD268T25 | H39: 贷 | I39: 1122 | J39: 应收账款 | K39: =E38 -> 24台湾长荣航运 | L39: 美元 | M39: 7.1072 | N39: =D38 -> 14450 | O39: =ROUND(M39*N39,2) -> 102699.04
C40: XLRQD317T25 | D40: 1100 | E40: 24台湾长荣航运 | G40: ="美金收款"&"-"&C39 -> 美金收款-XLRQD315T25 | H40: 贷 | I40: 1122 | J40: 应收账款 | K40: =E39 -> 24台湾长荣航运 | L40: 美元 | M40: 7.1072 | N40: =D39 -> 1100 | O40: =ROUND(M40*N40,2) -> 7817.92
G41: ="美金收款"&"-"&C40 -> 美金收款-XLRQD317T25 | H41: 贷 | I41: 1122 | J41: 应收账款 | K41: =E40 -> 24台湾长荣航运 | L41: 美元 | M41: 7.1072 | N41: =D40 -> 1100 | O41: =ROUND(M41*N41,2) -> 7817.92
G42: 美金收款-XLRQD317T25 | H42: 借 | I42: 5603.03 | J42: 财务费用-手续费 | L42: 人民币 | O42: 177.68
A43: 15360 | B43: 40 | C43: XLRQD080M25 | D43: 15400 | E43: 15 Oceanbrave | G43: ="美金收款"&"-"&C43 -> 美金收款-XLRQD080M25 | H43: 借 | I43: 1002.08 | J43: 银行存款 - 离岸账户(4935) | L43: 美元 | M43: 7.1072 | N43: =A43 -> 15360 | O43: =ROUND(M43*N43,2) -> 109166.59
G44: ="美金收款"&"-"&C43 -> 美金收款-XLRQD080M25 | H44: 贷 | I44: 1122 | J44: 应收账款 | K44: =E43 -> 15 Oceanbrave | L44: 美元 | M44: 7.1072 | N44: =D43 -> 15400 | O44: =ROUND(M44*N44,2) -> 109450.88
G45: 美金收款-XLRQD317T25 | H45: 借 | I45: 5603.03 | J45: 财务费用-手续费 | L45: 人民币 | O45: 284.29
A46: 270 | C46: XLRQD082M25 | D46: 270 | E46: ENEOS | G46: ="美金收款"&"-"&C46 -> 美金收款-XLRQD082M25 | H46: 借 | I46: 1002.08 | J46: 银行存款 - 离岸账户(4935) | L46: 美元 | M46: 7.1072 | N46: =A46 -> 270 | O46: =ROUND(M46*N46,2) -> 1918.94
G47: ="美金收款"&"-"&C46 -> 美金收款-XLRQD082M25 | H47: 贷 | I47: 1122 | J47: 应收账款 | K47: =E46 -> ENEOS | L47: 美元 | M47: 7.1072 | N47: =D46 -> 270 | O47: =ROUND(M47*N47,2) -> 1918.94
